Workbook

Sheet Diocese Sheet
A1: Parish Code | B1: Parish Legal Name | C1: Parish Local Name | D1: Parish | E1: Archdeaconry | F1: Deanery | G1: 2027 Guided pledge | H1: 2026 Guided pledge | I1: Unrestricted income 2025 (per PFR) if not then used 2024 | J1: Unrestricted income 2024 (per PFR) if not then used 2023 | K1: Unrestricted income 2023 (per PFR) if not then used 2022 | L1: Unrestricted reserves 2025 (per PFR) if not then use 2024 | M1: Unrestricted reserves 2024 (per PFR) if not then use 2023 | N1: Unrestricted reserves 2023 (per PFR) | O1: Restricted reserves 2025 (per PFR) | P1: Restricted reserves 2024 (per PFR) | Q1: Restricted reserves 2023 (per PFR) | R1: Restricted income 2025 (per PFR) | S1: Restricted income 2024 (per PFR) | T1: Restricted income 2023 (per PFR) | U1: Unrestricted income plus 10% restricted income | V1: Unrestricted reserves plus 10% restricted reserves | W1: Guided pledge - finance 2027 | X1: 2026 Clergy per Deanery Plan per Arch Deacons updated JM | Y1: Guided pledge - clergy 2027 | Z1: inverse of IMD2025 score (larger IMD score means more deprived) | AA1: Guided pledge - IMD 2027 | AB1: 2025 Usual Sunday Attendance | AC1: 2025 Electoral roll updated used for 2027 | AD1: Parish population per national church info used for 2027 (2025 census) | AE1: Guided pledge - people 2027 | AF1: Uncapped Guided pledge - UGP | AG1: URes > Ave UnInc 3 years => Uncap else lower Uncap & 65%Uinc | AH1: 2027 pledge before 200% limit | AI1: GP 2027 - 2006 Offering + Infl | AJ1: GP Max set at 200% of Ministry cost | AK1: 107720.93 | AL1: 2026 Revised Pledge
A2: 130187 | B2: St. Helen Auckland | C2: Auckland: St Helen | D2: Auckland St Helen | E2: AUCKLAND | F2: AUCKLAND | G2: =+AJ2 -> 41358.483 | H2: 35531.274 | I2: 73439 | J2: 71936 | K2: 68042 | L2: 72114 | M2: 45427 | N2: 5953 | O2: 54986 | P2: 123920 | Q2: 148691 | R2: 6066 | S2: 6114 | T2: 13318 | U2: =I2+R2*0.1 -> 74045.6 | V2: =L2+0.1*O2 -> 77612.6 | W2: =SUM(U2*'Factors & Percentages'!$E$6+V2*'Factors & Percentages'!$E$7) -> 12482.577 | X2: 1 | Y2: =X2*'Factors & Percentages'!$E$10 -> 14160.969 | Z2: 0.029142879 | AA2: =+'Factors & Percentages'!E$13*Z2 -> 4857.3646 | AB2: 40 | AC2: 124 | AD2: 6108 | AE2: =AB2*'Factors & Percentages'!$E$16+AC2*'Factors & Percentages'!$E$17+AD2*'Factors & Percentages'!$E$18 -> 9857.5723 | AF2: =W2+Y2+AA2+AE2 -> 41358.483 | AG2: =IF($L2>SUM(I2:K2)/3,$AF2,MIN(AF2,$I2*0.65)) -> 41358.483 | AH2: =IF($AL2>$AF2,$AL2*(1+'Factors & Percentages'!$B$3), IF($AF2>$AG2,$AG2, IF($AF2>$BOJ2,$AF2, $AL2*(1+'Factors & Percentages'!$B$3)))) -> 41358.483 | AI2: =IF(+MIN(AH2,+X2*2*AK$1)-(AL2*(1+'Factors & Percentages'!B$3))>0,0,+MIN(AH2,+X2*2*AK$1)-(AL2*(1+'Factors & Percentages'!B$3))) -> 0 | AJ2: =MIN(AH2-AI2,+X2*2*AK$1) -> 41358.483 | AL2: 25000
A3: 130210 | B3: Barnard Castle with Whorlton | C3: Barnard Castle w Whorlton | D3: Barnard Castle w Whorlton | E3: AUCKLAND | F3: Durham Dales | G3: =+AJ3 -> 61800 | H3: 68250 | I3: 106872 | J3: 98533 | K3: 106357 | L3: 79046 | M3: 79688 | N3: 60138 | O3: 33987 | P3: 28048 | Q3: 54038 | R3: 4647 | S3: 11372 | T3: 27138 | U3: =I3+R3*0.1 -> 107336.7 | V3: =L3+0.1*O3 -> 82444.7 | W3: =SUM(U3*'Factors & Percentages'!$E$6+V3*'Factors & Percentages'!$E$7) -> 15985.62 | X3: 1 | Y3: =X3*'Factors & Percentages'!$E$10 -> 14160.969 | Z3: 0.061786367 | AA3: =+'Factors & Percentages'!E$13*Z3 -> 10298.19 | AB3: 93 | AC3: 114 | AD3: 6817 | AE3: =AB3*'Factors & Percentages'!$E$16+AC3*'Factors & Percentages'!$E$17+AD3*'Factors & Percentages'!$E$18 -> 16877.303 | AF3: =W3+Y3+AA3+AE3 -> 57322.083 | AG3: =IF($L3>SUM(I3:K3)/3,$AF3,MIN(AF3,$I3*0.65)) -> 57322.083 | AH3: =IF($AL3>$AF3,$AL3*(1+'Factors & Percentages'!$B$3), IF($AF3>$AG3,$AG3, IF($AF3>$BOJ3,$AF3, $AL3*(1+'Factors & Percentages'!$B$3)))) -> 61800 | AI3: =IF(+MIN(AH3,+X3*2*AK$1)-(AL3*(1+'Factors & Percentages'!B$3))>0,0,+MIN(AH3,+X3*2*AK$1)-(AL3*(1+'Factors & Percentages'!B$3))) -> 0 | AJ3: =MIN(AH3-AI3,+X3*2*AK$1) -> 61800 | AL3: 60000
A4: 130014 | B4: Saint Edmund Bearpark | C4: Bearpark | D4: Bearpark | E4: DURHAM | F4: DURHAM | G4: =+AJ4 -> 18255.39 | H4: 12648.497 | I4: 23846 | J4: 17020 | K4: 28160 | L4: 47237 | M4: 33555 | N4: 129896 | O4: 12637 | P4: 11907 | Q4: 8221 | R4: 888 | S4: 928 | T4: 2644 | U4: =I4+R4*0.1 -> 23934.8 | V4: =L4+0.1*O4 -> 48500.7 | W4: =SUM(U4*'Factors & Percentages'!$E$6+V4*'Factors & Percentages'!$E$7) -> 5677.5321 | X4: 0.2 | Y4: =X4*'Factors & Percentages'!$E$10 -> 2832.1939 | Z4: 0.035212631 | AA4: =+'Factors & Percentages'!E$13*Z4 -> 5869.0355 | AB4: 20 | AC4: 29 | AD4: 2073 | AE4: =AB4*'Factors & Percentages'!$E$16+AC4*'Factors & Percentages'!$E$17+AD4*'Factors & Percentages'!$E$18 -> 3876.6286 | AF4: =W4+Y4+AA4+AE4 -> 18255.39 | AG4: =IF($L4>SUM(I4:K4)/3,$AF4,MIN(AF4,$I4*0.65)) -> 18255.39 | AH4: =IF($AL4>$AF4,$AL4*(1+'Factors & Percentages'!$B$3), IF($AF4>$AG4,$AG4, IF($AF4>$BOJ4,$AF4, $AL4*(1+'Factors & Percentages'!$B$3)))) -> 18255.39 | AI4: =IF(+MIN(AH4,+X4*2*AK$1)-(AL4*(1+'Factors & Percentages'!B$3))>0,0,+MIN(AH4,+X4*2*AK$1)-(AL4*(1+'Factors & Percentages'!B$3))) -> 0 | AJ4: =MIN(AH4-AI4,+X4*2*AK$1) -> 18255.39 | AL4: 6000
A5: 130015 | B5: Belmont | C5: Belmont | D5: Belmont | E5: DURHAM | F5: DURHAM | G5: =+AJ5 -> 46129.267 | H5: 53401.595 | I5: 50107 | J5: 56095 | K5: 57469 | L5: 100190 | M5: 113775 | N5: 24475 | O5: 0 | P5: 0 | Q5: 0 | R5: 0 | S5: 0 | T5: 28674 | U5: =I5+R5*0.1 -> 50107 | V5: =L5+0.1*O5 -> 100190 | W5: =SUM(U5*'Factors & Percentages'!$E$6+V5*'Factors & Percentages'!$E$7) -> 11791.417 | X5: 0.7 | Y5: =X5*'Factors & Percentages'!$E$10 -> 9912.6785 | Z5: 0.092007324 | AA5: =+'Factors & Percentages'!E$13*Z5 -> 15335.243 | AB5: 40 | AC5: 78 | AD5: 7920 | AE5: =AB5*'Factors & Percentages'!$E$16+AC5*'Factors & Percentages'!$E$17+AD5*'Factors & Percentages'!$E$18 -> 9089.9284 | AF5: =W5+Y5+AA5+AE5 -> 46129.267 | AG5: =IF($L5>SUM(I5:K5)/3,$AF5,MIN(AF5,$I5*0.65)) -> 46129.267 | AH5: =IF($AL5>$AF5,$AL5*(1+'Factors & Percentages'!$B$3), IF($AF5>$AG5,$AG5, IF($AF5>$BOJ5,$AF5, $AL5*(1+'Factors & Percentages'!$B$3)))) -> 46129.267 | AI5: =IF(+MIN(AH5,+X5*2*AK$1)-(AL5*(1+'Factors & Percentages'!B$3))>0,0,+MIN(AH5,+X5*2*AK$1)-(AL5*(1+'Factors & Percentages'!B$3))) -> 0 | AJ5: =MIN(AH5-AI5,+X5*2*AK$1) -> 46129.267 | AL5: 25000
A6: 130136 | B6: Benfieldside | C6: Benfieldside | D6: Benfieldside | E6: DURHAM | F6: LANCHESTER | G6: =+AJ6 -> 28793.65 | H6: 32952.927 | I6: 43336 | J6: 43421 | K6: 43007 | L6: 41019 | M6: 45373 | N6: 43958 | O6: 5051 | P6: 23167 | Q6: 18711 | R6: 22073 | S6: 1227 | T6: 672 | U6: =I6+R6*0.1 -> 45543.3 | V6: =L6+0.1*O6 -> 41524.1 | W6: =SUM(U6*'Factors & Percentages'!$E$6+V6*'Factors & Percentages'!$E$7) -> 7241.7649 | X6: 0.5 | Y6: =X6*'Factors & Percentages'!$E$10 -> 7080.4846 | Z6: 0.053154733 | AA6: =+'Factors & Percentages'!E$13*Z6 -> 8859.5201 | AB6: 37 | AC6: 77 | AD6: 9668 | AE6: =AB6*'Factors & Percentages'!$E$16+AC6*'Factors & Percentages'!$E$17+AD6*'Factors & Percentages'!$E$18 -> 9046.0082 | AF6: =W6+Y6+AA6+AE6 -> 32227.778 | AG6: =IF($L6>SUM(I6:K6)/3,$AF6,MIN(AF6,$I6*0.65)) -> 28168.4 | AH6: =IF($AL6>$AF6,$AL6*(1+'Factors & Percentages'!$B$3), IF($AF6>$AG6,$AG6, IF($AF6>$BOJ6,$AF6, $AL6*(1+'Factors & Percentages'!$B$3)))) -> 28168.4 | AI6: =IF(+MIN(AH6,+X6*2*AK$1)-(AL6*(1+'Factors & Percentages'!B$3))>0,0,+MIN(AH6,+X6*2*AK$1)-(AL6*(1+'Factors & Percentages'!B$3))) -> -625.25 | AJ6: =MIN(AH6-AI6,+X6*2*AK$1) -> 28793.65 | AL6: 27955
A7: 130063 | B7: Bensham and Teams | C7: Bensham and Teams | D7: Bensham & Teams | E7: SUNDERLAND | F7: GATESHEAD | G7: =+AJ7 -> 41090.118 | H7: 34616.265 | I7: 38737 | J7: 27580 | K7: 32645 | L7: 191437 | M7: 190594 | N7: 190790 | O7: 0 | P7: 0 | Q7: 10379 | R7: 2353 | S7: 2353 | T7: 0 | U7: =I7+R7*0.1 -> 38972.3 | V7: =L7+0.1*O7 -> 191437 | W7: =SUM(U7*'Factors & Percentages'!$E$6+V7*'Factors & Percentages'!$E$7) -> 17134.914 | X7: 1 | Y7: =X7*'Factors & Percentages'!$E$10 -> 14160.969 | Z7: 0.023298727 | AA7: =+'Factors & Percentages'!E$13*Z7 -> 3883.2955 | AB7: 11 | AC7: 11 | AD7: 18899 | AE7: =AB7*'Factors & Percentages'!$E$16+AC7*'Factors & Percentages'!$E$17+AD7*'Factors & Percentages'!$E$18 -> 5910.9386 | AF7: =W7+Y7+AA7+AE7 -> 41090.118 | AG7: =IF($L7>SUM(I7:K7)/3,$AF7,MIN(AF7,$I7*0.65)) -> 41090.118 | AH7: =IF($AL7>$AF7,$AL7*(1+'Factors & Percentages'!$B$3), IF($AF7>$AG7,$AG7, IF($AF7>$BOJ7,$AF7, $AL7*(1+'Factors & Percentages'!$B$3)))) -> 41090.118 | AI7: =IF(+MIN(AH7,+X7*2*AK$1)-(AL7*(1+'Factors & Percentages'!B$3))>0,0,+MIN(AH7,+X7*2*AK$1)-(AL7*(1+'Factors & Percentages'!B$3))) -> 0 | AJ7: =MIN(AH7-AI7,+X7*2*AK$1) -> 41090.118 | AL7: 13020
A8: 130344 | B8: Billingham | C8: Billingham | D8: Billingham | E8: AUCKLAND | F8: STOCKTON | G8: =+AJ8 -> 70781.127 | H8: 71348.546 | I8: 112186 | J8: 130933 | K8: 119533 | L8: 51815 | M8: 76920 | N8: 179949 | O8: 23150 | P8: 5274 | Q8: 9556 | R8: 23204 | S8: 705 | T8: 0 | U8: =I8+R8*0.1 -> 114506.4 | V8: =L8+0.1*O8 -> 54130 | W8: =SUM(U8*'Factors & Percentages'!$E$6+V8*'Factors & Percentages'!$E$7) -> 14680.521 | X8: 2 | Y8: =X8*'Factors & Percentages'!$E$10 -> 28321.939 | Z8: 0.037519229 | AA8: =+'Factors & Percentages'!E$13*Z8 -> 6253.4856 | AB8: 77 | AC8: 139 | AD8: 34849 | AE8: =AB8*'Factors & Percentages'!$E$16+AC8*'Factors & Percentages'!$E$17+AD8*'Factors & Percentages'!$E$18 -> 21525.182 | AF8: =W8+Y8+AA8+AE8 -> 70781.127 | AG8: =IF($L8>SUM(I8:K8)/3,$AF8,MIN(AF8,$I8*0.65)) -> 70781.127 | AH8: =IF($AL8>$AF8,$AL8*(1+'Factors & Percentages'!$B$3), IF($AF8>$AG8,$AG8, IF($AF8>$BOJ8,$AF8, $AL8*(1+'Factors & Percentages'!$B$3)))) -> 70781.127 | AI8: =IF(+MIN(AH8,+X8*2*AK$1)-(AL8*(1+'Factors & Percentages'!B$3))>0,0,+MIN(AH8,+X8*2*AK$1)-(AL8*(1+'Factors & Percentages'!B$3))) -> 0 | AJ8: =MIN(AH8-AI8,+X8*2*AK$1) -> 70781.127 | AL8: 64000
A9: 130003 | B9: Birtley | C9: Birtley | D9: Birtley | E9: SUNDERLAND | F9: Gateshead | G9: =+AJ9 -> 17191.2 | H9: 16758.3 | I9: 26448 | J9: 25782 | K9: 39458 | L9: 12896 | M9: 10666 | N9: 13703 | O9: 6550 | P9: 6550 | Q9: 17178 | R9: 1020 | S9: 1020 | T9: 1206 | U9: =I9+R9*0.1 -> 26550 | V9: =L9+0.1*O9 -> 13551 | W9: =SUM(U9*'Factors & Percentages'!$E$6+V9*'Factors & Percentages'!$E$7) -> 3474.0653 | X9: 0.8 | Y9: =X9*'Factors & Percentages'!$E$10 -> 11328.775 | Z9: 0.036451119 | AA9: =+'Factors & Percentages'!E$13*Z9 -> 6075.4593 | AB9: 25 | AC9: 54 | AD9: 13871 | AE9: =AB9*'Factors & Percentages'!$E$16+AC9*'Factors & Percentages'!$E$17+AD9*'Factors & Percentages'!$E$18 -> 7775.5556 | AF9: =W9+Y9+AA9+AE9 -> 28653.856 | AG9: =IF($L9>SUM(I9:K9)/3,$AF9,MIN(AF9,$I9*0.65)) -> 17191.2 | AH9: =IF($AL9>$AF9,$AL9*(1+'Factors & Percentages'!$B$3), IF($AF9>$AG9,$AG9, IF($AF9>$BOJ9,$AF9, $AL9*(1+'Factors & Percentages'!$B$3)))) -> 17191.2 | AI9: =IF(+MIN(AH9,+X9*2*AK$1)-(AL9*(1+'Factors & Percentages'!B$3))>0,0,+MIN(AH9,+X9*2*AK$1)-(AL9*(1+'Factors & Percentages'!B$3))) -> 0 | AJ9: =MIN(AH9-AI9,+X9*2*AK$1) -> 17191.2 | AL9: 12000
A10: 130346 | B10: Bishop Auckland | C10: Bishop Auckland | D10: Bishop Auckland | E10: AUCKLAND | F10: AUCKLAND | G10: =+AJ10 -> 41205.15 | H10: 43110.9 | I10: 48635 | J10: 61546 | K10: 71417 | L10: 18610 | M10: 57577 | N10: 92454 | O10: 35007 | P10: 37367 | Q10: 63654 | R10: 36122 | S10: 22576 | T10: 17420 | U10: =I10+R10*0.1 -> 52247.2 | V10: =L10+0.1*O10 -> 22110.7 | W10: =SUM(U10*'Factors & Percentages'!$E$6+V10*'Factors & Percentages'!$E$7) -> 6516.8972 | X10: 1 | Y10: =X10*'Factors & Percentages'!$E$10 -> 14160.969 | Z10: 0.026522948 | AA10: =+'Factors & Percentages'!E$13*Z10 -> 4420.6898 | AB10: 46 | AC10: 81 | AD10: 19198 | AE10: =AB10*'Factors & Percentages'!$E$16+AC10*'Factors & Percentages'!$E$17+AD10*'Factors & Percentages'!$E$18 -> 12451.166 | AF10: =W10+Y10+AA10+AE10 -> 37549.723 | AG10: =IF($L10>SUM(I10:K10)/3,$AF10,MIN(AF10,$I10*0.65)) -> 31612.75 | AH10: =IF($AL10>$AF10,$AL10*(1+'Factors & Percentages'!$B$3), IF($AF10>$AG10,$AG10, IF($AF10>$BOJ10,$AF10, $AL10*(1+'Factors & Percentages'!$B$3)))) -> 41205.15 | AI10: =IF(+MIN(AH10,+X10*2*AK$1)-(AL10*(1+'Factors & Percentages'!B$3))>0,0,+MIN(AH10,+X10*2*AK$1)-(AL10*(1+'Factors & Percentages'!B$3))) -> 0 | AJ10: =MIN(AH10-AI10,+X10*2*AK$1) -> 41205.15 | AL10: 40005
A11: 130157 | B11: St. Gabriel, Bishopwearmouth | C11: Bishopwearmouth: St Gabriel | D11: Bishopwearmouth St Gabriel | E11: SUNDERLAND | F11: WEARMOUTH | G11: =+AJ11 -> 55329.222 | H11: 51245.951 | I11: 136024 | J11: 127338 | K11: 118659 | L11: 97503 | M11: 85506 | N11: 63959 | O11: 47180 | P11: 38313 | Q11: 35710 | R11: 7410 | S11: 1819 | T11: 816 | U11: =I11+R11*0.1 -> 136765 | V11: =L11+0.1*O11 -> 102221 | W11: =SUM(U11*'Factors & Percentages'!$E$6+V11*'Factors & Percentages'!$E$7) -> 20170.001 | X11: 1 | Y11: =X11*'Factors & Percentages'!$E$10 -> 14160.969 | Z11: 0.036497283 | AA11: =+'Factors & Percentages'!E$13*Z11 -> 6083.1536 | AB11: 75 | AC11: 106 | AD11: 9809 | AE11: =AB11*'Factors & Percentages'!$E$16+AC11*'Factors & Percentages'!$E$17+AD11*'Factors & Percentages'!$E$18 -> 14915.098 | AF11: =W11+Y11+AA11+AE11 -> 55329.222 | AG11: =IF($L11>SUM(I11:K11)/3,$AF11,MIN(AF11,$I11*0.65)) -> 55329.222 | AH11: =IF($AL11>$AF11,$AL11*(1+'Factors & Percentages'!$B$3), IF($AF11>$AG11,$AG11, IF($AF11>$BOJ11,$AF11, $AL11*(1+'Factors & Percentages'!$B$3)))) -> 55329.222 | AI11: =IF(+MIN(AH11,+X11*2*AK$1)-(AL11*(1+'Factors & Percentages'!B$3))>0,0,+MIN(AH11,+X11*2*AK$1)-(AL11*(1+'Factors & Percentages'!B$3))) -> 0 | AJ11: =MIN(AH11-AI11,+X11*2*AK$1) -> 55329.222 | AL11: 30000
A12: 130160 | B12: St. Mary Magdalene, Bishopwcarmouth Millfield | C12: Bishopwearmouth Millfield: St Mary Magdalene | D12: Bishopwearmouth St Mary Magdalene Millfield | E12: SUNDERLAND | F12: WEARMOUTH | G12: =+AJ12 -> 24506.184 | H12: 23495.808 | I12: 37518 | J12: 37518 | K12: 37518 | L12: 47615 | M12: 47615 | N12: 47615 | O12: 0 | P12: 0 | Q12: 0 | R12: 0 | S12: 0 | T12: 0 | U12: =I12+R12*0.1 -> 37518 | V12: =L12+0.1*O12 -> 47615 | W12: =SUM(U12*'Factors & Percentages'!$E$6+V12*'Factors & Percentages'!$E$7) -> 6906.3582 | X12: 0.5 | Y12: =X12*'Factors & Percentages'!$E$10 -> 7080.4846 | Z12: 0.027076863 | AA12: =+'Factors & Percentages'!E$13*Z12 -> 4513.0132 | AB12: 30 | AC12: 52 | AD12: 3000 | AE12: =AB12*'Factors & Percentages'!$E$16+AC12*'Factors & Percentages'!$E$17+AD12*'Factors & Percentages'!$E$18 -> 6006.3279 | AF12: =W12+Y12+AA12+AE12 -> 24506.184 | AG12: =IF($L12>SUM(I12:K12)/3,$AF12,MIN(AF12,$I12*0.65)) -> 24506.184 | AH12: =IF($AL12>$AF12,$AL12*(1+'Factors & Percentages'!$B$3), IF($AF12>$AG12,$AG12, IF($AF12>$BOJ12,$AF12, $AL12*(1+'Factors & Percentages'!$B$3)))) -> 24506.184 | AI12: =IF(+MIN(AH12,+X12*2*AK$1)-(AL12*(1+'Factors & Percentages'!B$3))>0,0,+MIN(AH12,+X12*2*AK$1)-(AL12*(1+'Factors & Percentages'!B$3))) -> 0 | AJ12: =MIN(AH12-AI12,+X12*2*AK$1) -> 24506.184 | AL12: 5000
A13: 130164 | B13: Bishopwearmouth St. Nicholas | C13: Bishopwearmouth: St Nicholas | D13: Bishopwearmouth St Nicholas | E13: SUNDERLAND | F13: WEARMOUTH | G13: =+AJ13 -> 41077.962 | H13: 40859.175 | I13: 48337 | J13: 49076 | K13: 43915 | L13: 54053 | M13: 61115 | N13: 75771 | O13: 28787 | P13: 1507 | Q13: 1596 | R13: 13516 | S13: 839 | T13: 1216 | U13: =I13+R13*0.1 -> 49688.6 | V13: =L13+0.1*O13 -> 56931.7 | W13: =SUM(U13*'Factors & Percentages'!$E$6+V13*'Factors & Percentages'!$E$7) -> 8716.714 | X13: 1 | Y13: =X13*'Factors & Percentages'!$E$10 -> 14160.969 | Z13: 0.050683723 | AA13: =+'Factors & Percentages'!E$13*Z13 -> 8447.6666 | AB13: 38 | AC13: 71 | AD13: 12963 | AE13: =AB13*'Factors & Percentages'!$E$16+AC13*'Factors & Percentages'!$E$17+AD13*'Factors & Percentages'!$E$18 -> 9752.6118 | AF13: =W13+Y13+AA13+AE13 -> 41077.962 | AG13: =IF($L13>SUM(I13:K13)/3,$AF13,MIN(AF13,$I13*0.65)) -> 41077.962 | AH13: =IF($AL13>$AF13,$AL13*(1+'Factors & Percentages'!$B$3), IF($AF13>$AG13,$AG13, IF($AF13>$BOJ13,$AF13, $AL13*(1+'Factors & Percentages'!$B$3)))) -> 41077.962 | AI13: =IF(+MIN(AH13,+X13*2*AK$1)-(AL13*(1+'Factors & Percentages'!B$3))>0,0,+MIN(AH13,+X13*2*AK$1)-(AL13*(1+'Factors & Percentages'!B$3))) -> 0 | AJ13: =MIN(AH13-AI13,+X13*2*AK$1) -> 41077.962 | AL13: 32687
... A36: 130273 | B36: Cornforth and Ferryhill | C36: Cornforth and FerryHill | D36: Cornforth & Ferryhill | E36: DURHAM | F36: DURHAM | G36: =+AJ36 -> 30403.344 | H36: 26374.733 | I36: 47837 | J36: 45272 | K36: 47419 | L36: 20584 | M36: 23973 | N36: 22859 | O36: 4322 | P36: 4908 | Q36: 4906 | R36: 1 | S36: 2 | T36: 501 | U36: =I36+R36*0.1 -> 47837.1 | V36: =L36+0.1*O36 -> 21016.2 | W36: =SUM(U36*'Factors & Percentages'!$E$6+V36*'Factors & Percentages'!$E$7) -> 6020.967 | X36: 0.7 | Y36: =X36*'Factors & Percentages'!$E$10 -> 9912.6785 | Z36: 0.021570273 | AA36: =+'Factors & Percentages'!E$13*Z36 -> 3595.2069 | AB36: 40 | AC36: 109 | AD36: 12463 | AE36: =AB36*'Factors & Percentages'!$E$16+AC36*'Factors & Percentages'!$E$17+AD36*'Factors & Percentages'!$E$18 -> 10874.492 | AF36: =W36+Y36+AA36+AE36 -> 30403.344 | AG36: =IF($L36>SUM(I36:K36)/3,$AF36,MIN(AF36,$I36*0.65)) -> 30403.344 | AH36: =IF($AL36>$AF36,$AL36*(1+'Factors & Percentages'!$B$3), IF($AF36>$AG36,$AG36, IF($AF36>$BOJ36,$AF36, $AL36*(1+'Factors & Percentages'!$B$3)))) -> 30403.344 | AI36: =IF(+MIN(AH36,+X36*2*AK$1)-(AL36*(1+'Factors & Percentages'!B$3))>0,0,+MIN(AH36,+X36*2*AK$1)-(AL36*(1+'Factors & Percentages'!B$3))) -> 0 | AJ36: =MIN(AH36-AI36,+X36*2*AK$1) -> 30403.344 | AL36: 9000
A37: 130190 | B37: Coundon | C37: Coundon | D37: Coundon | E37: AUCKLAND | F37: AUCKLAND | G37: 11536 | H37: 10193.95 | I37: 17748 | J37: 15683 | K37: 16582 | L37: 19723 | M37: 7963 | N37: 5214 | O37: 55060 | P37: 65052 | Q37: 70212 | R37: 10 | S37: 20 | T37: 15 | U37: =I37+R37*0.1 -> 17749 | V37: =L37+0.1*O37 -> 25229 | W37: =SUM(U37*'Factors & Percentages'!$E$6+V37*'Factors & Percentages'!$E$7) -> 3456.9177 | X37: 1 | Y37: =X37*'Factors & Percentages'!$E$10 -> 14160.969 | Z37: 0.021450344 | AA37: =+'Factors & Percentages'!E$13*Z37 -> 3575.2178 | AB37: 19 | AC37: 32 | AD37: 4250 | AE37: =AB37*'Factors & Percentages'!$E$16+AC37*'Factors & Percentages'!$E$17+AD37*'Factors & Percentages'!$E$18 -> 4296.9947 | AF37: =W37+Y37+AA37+AE37 -> 25490.099 | AG37: =IF($L37>SUM(I37:K37)/3,$AF37,MIN(AF37,$I37*0.65)) -> 25490.099 | AH37: =IF($AL37>$AF37,$AL37*(1+'Factors & Percentages'!$B$3), IF($AF37>$AG37,$AG37, IF($AF37>$BOJ37,$AF37, $AL37*(1+'Factors & Percentages'!$B$3)))) -> 25490.099 | AI37: =IF(+MIN(AH37,+X37*2*AK$1)-(AL37*(1+'Factors & Percentages'!B$3))>0,0,+MIN(AH37,+X37*2*AK$1)-(AL37*(1+'Factors & Percentages'!B$3))) -> 0 | AJ37: =MIN(AH37-AI37,+X37*2*AK$1) -> 25490.099 | AL37: 3000
A38: 130272 | B38: Coxhoe | C38: Coxhoe | D38: Coxhoe | E38: DURHAM | F38: DURHAM | G38: 14234 | H38: 16809 | I38: 21898 | J38: 25860 | K38: 23350 | L38: 24738 | M38: 20851 | N38: 28957 | O38: 0 | P38: 0 | Q38: 0 | R38: 0 | S38: 261 | T38: 436 | U38: =I38+R38*0.1 -> 21898 | V38: =L38+0.1*O38 -> 24738 | W38: =SUM(U38*'Factors & Percentages'!$E$6+V38*'Factors & Percentages'!$E$7) -> 3816.7963 | X38: 0.25 | Y38: =X38*'Factors & Percentages'!$E$10 -> 3540.2423 | Z38: 0.05197181 | AA38: =+'Factors & Percentages'!E$13*Z38 -> 8662.3574 | AB38: 14 | AC38: 34 | AD38: 4502 | AE38: =AB38*'Factors & Percentages'!$E$16+AC38*'Factors & Percentages'!$E$17+AD38*'Factors & Percentages'!$E$18 -> 3731.6457 | AF38: =W38+Y38+AA38+AE38 -> 19751.042 | AG38: =IF($L38>SUM(I38:K38)/3,$AF38,MIN(AF38,$I38*0.65)) -> 19751.042 | AH38: =IF($AL38>$AF38,$AL38*(1+'Factors & Percentages'!$B$3), IF($AF38>$AG38,$AG38, IF($AF38>$BOJ38,$AF38, $AL38*(1+'Factors & Percentages'!$B$3)))) -> 19751.042 | AI38: =IF(+MIN(AH38,+X38*2*AK$1)-(AL38*(1+'Factors & Percentages'!B$3))>0,0,+MIN(AH38,+X38*2*AK$1)-(AL38*(1+'Factors & Percentages'!B$3))) -> 0 | AJ38: =MIN(AH38-AI38,+X38*2*AK$1) -> 19751.042 | AL38: 6000
A39: 130283 | B39: Crook | C39: Crook | D39: Crook, St Catherine | E39: AUCKLAND | F39: AUCKLAND | G39: =+AJ39 -> 32319.103 | H39: 24300.179 | I39: 47730 | J39: 42685 | K39: 33602 | L39: 83191 | M39: 69129 | N39: 60354 | O39: 120550 | P39: 550 | Q39: 0 | R39: 0 | S39: 550 | T39: 0 | U39: =I39+R39*0.1 -> 47730 | V39: =L39+0.1*O39 -> 95246 | W39: =SUM(U39*'Factors & Percentages'!$E$6+V39*'Factors & Percentages'!$E$7) -> 11218.64 | X39: 0.5 | Y39: =X39*'Factors & Percentages'!$E$10 -> 7080.4846 | Z39: 0.031693511 | AA39: =+'Factors & Percentages'!E$13*Z39 -> 5282.4891 | AB39: 36 | AC39: 35 | AD39: 13718 | AE39: =AB39*'Factors & Percentages'!$E$16+AC39*'Factors & Percentages'!$E$17+AD39*'Factors & Percentages'!$E$18 -> 8737.4892 | AF39: =W39+Y39+AA39+AE39 -> 32319.103 | AG39: =IF($L39>SUM(I39:K39)/3,$AF39,MIN(AF39,$I39*0.65)) -> 32319.103 | AH39: =IF($AL39>$AF39,$AL39*(1+'Factors & Percentages'!$B$3), IF($AF39>$AG39,$AG39, IF($AF39>$BOJ39,$AF39, $AL39*(1+'Factors & Percentages'!$B$3)))) -> 32319.103 | AI39: =IF(+MIN(AH39,+X39*2*AK$1)-(AL39*(1+'Factors & Percentages'!B$3))>0,0,+MIN(AH39,+X39*2*AK$1)-(AL39*(1+'Factors & Percentages'!B$3))) -> 0 | AJ39: =MIN(AH39-AI39,+X39*2*AK$1) -> 32319.103 | AL39: 15600
A40: 130019 | B40: Croxdale | C40: Croxdale | D40: Croxdale | E40: AUCKLAND | F40: AUCKLAND | G40: =+AJ40 -> 12450.75 | H40: 11357.505 | I40: 19155 | J40: 23498 | K40: 16702 | L40: 3171 | M40: 2141 | N40: 1149 | O40: 8500 | P40: 8274 | Q40: 5235 | R40: 2545 | S40: 4152 | T40: 5235 | U40: =I40+R40*0.1 -> 19409.5 | V40: =L40+0.1*O40 -> 4021 | W40: =SUM(U40*'Factors & Percentages'!$E$6+V40*'Factors & Percentages'!$E$7) -> 2126.8121 | X40: 0.25 | Y40: =X40*'Factors & Percentages'!$E$10 -> 3540.2423 | Z40: 0.032176067 | AA40: =+'Factors & Percentages'!E$13*Z40 -> 5362.9187 | AB40: 15 | AC40: 17 | AD40: 866 | AE40: =AB40*'Factors & Percentages'!$E$16+AC40*'Factors & Percentages'!$E$17+AD40*'Factors & Percentages'!$E$18 -> 2635.6472 | AF40: =W40+Y40+AA40+AE40 -> 13665.62 | AG40: =IF($L40>SUM(I40:K40)/3,$AF40,MIN(AF40,$I40*0.65)) -> 12450.75 | AH40: =IF($AL40>$AF40,$AL40*(1+'Factors & Percentages'!$B$3), IF($AF40>$AG40,$AG40, IF($AF40>$BOJ40,$AF40, $AL40*(1+'Factors & Percentages'!$B$3)))) -> 12450.75 | AI40: =IF(+MIN(AH40,+X40*2*AK$1)-(AL40*(1+'Factors & Percentages'!B$3))>0,0,+MIN(AH40,+X40*2*AK$1)-(AL40*(1+'Factors & Percentages'!B$3))) -> 0 | AJ40: =MIN(AH40-AI40,+X40*2*AK$1) -> 12450.75 | AL40: 11300
A41: 130042 | B41: Dalton le Dale | C41: Dalton le Dale | D41: Dalton le Dale | E41: SUNDERLAND | F41: Easington | G41: 22140 | H41: 20258.72 | I41: 15313 | J41: 16014 | K41: 13174 | L41: 12167 | M41: 30017 | N41: 30702 | O41: 27901 | P41: 8374 | Q41: 8374 | R41: 0 | S41: 0 | T41: 20 | U41: =I41+R41*0.1 -> 15313 | V41: =L41+0.1*O41 -> 14957.1 | W41: =SUM(U41*'Factors & Percentages'!$E$6+V41*'Factors & Percentages'!$E$7) -> 2504.7358 | X41: 0.2 | Y41: =X41*'Factors & Percentages'!$E$10 -> 2832.1939 | Z41: 0.055113727 | AA41: =+'Factors & Percentages'!E$13*Z41 -> 9186.0337 | AB41: 20 | AC41: 31 | AD41: 1469 | AE41: =AB41*'Factors & Percentages'!$E$16+AC41*'Factors & Percentages'!$E$17+AD41*'Factors & Percentages'!$E$18 -> 3794.5359 | AF41: =W41+Y41+AA41+AE41 -> 18317.499 | AG41: =IF($L41>SUM(I41:K41)/3,$AF41,MIN(AF41,$I41*0.65)) -> 9953.45 | AH41: =IF($AL41>$AF41,$AL41*(1+'Factors & Percentages'!$B$3), IF($AF41>$AG41,$AG41, IF($AF41>$BOJ41,$AF41, $AL41*(1+'Factors & Percentages'!$B$3)))) -> 9953.45 | AI41: =IF(+MIN(AH41,+X41*2*AK$1)-(AL41*(1+'Factors & Percentages'!B$3))>0,0,+MIN(AH41,+X41*2*AK$1)-(AL41*(1+'Factors & Percentages'!B$3))) -> 0 | AJ41: =MIN(AH41-AI41,+X41*2*AK$1) -> 9953.45 | AL41: 6000
A42: 130227 | B42: Holy Trinity Darlington | C42: Darlington: Holy Trinity | D42: Darlington Holy Trinity | E42: AUCKLAND | F42: DARLINGTON | G42: =+AJ42 -> 49586.458 | H42: 41232.723 | I42: 80248 | J42: 76050 | K42: 71705 | L42: 84078 | M42: 80073 | N42: 93573 | O42: 10887 | P42: 12177 | Q42: 11061 | R42: 1146 | S42: 1764 | T42: 11461 | U42: =I42+R42*0.1 -> 80362.6 | V42: =L42+0.1*O42 -> 85166.7 | W42: =SUM(U42*'Factors & Percentages'!$E$6+V42*'Factors & Percentages'!$E$7) -> 13612.937 | X42: 1 | Y42: =X42*'Factors & Percentages'!$E$10 -> 14160.969 | Z42: 0.046915758 | AA42: =+'Factors & Percentages'!E$13*Z42 -> 7819.6442 | AB42: 75 | AC42: 87 | AD42: 7805 | AE42: =AB42*'Factors & Percentages'!$E$16+AC42*'Factors & Percentages'!$E$17+AD42*'Factors & Percentages'!$E$18 -> 13992.907 | AF42: =W42+Y42+AA42+AE42 -> 49586.458 | AG42: =IF($L42>SUM(I42:K42)/3,$AF42,MIN(AF42,$I42*0.65)) -> 49586.458 | AH42: =IF($AL42>$AF42,$AL42*(1+'Factors & Percentages'!$B$3), IF($AF42>$AG42,$AG42, IF($AF42>$BOJ42,$AF42, $AL42*(1+'Factors & Percentages'!$B$3)))) -> 49586.458 | AI42: =IF(+MIN(AH42,+X42*2*AK$1)-(AL42*(1+'Factors & Percentages'!B$3))>0,0,+MIN(AH42,+X42*2*AK$1)-(AL42*(1+'Factors & Percentages'!B$3))) -> 0 | AJ42: =MIN(AH42-AI42,+X42*2*AK$1) -> 49586.458 | AL42: 41233
A43: 130230 | B43: Darlington St. Cuthbert | C43: Darlington: St Cuthbert | D43: Darlington St Cuthbert | E43: AUCKLAND | F43: DARLINGTON | G43: =+AJ43 -> 49796.152 | H43: 38808.081 | I43: 131681 | J43: 106955 | K43: 103953 | L43: 128741 | M43: 90625 | N43: 74312 | O43: 553154 | P43: 209161 | Q43: 287463 | R43: 5648 | S43: 5418 | T43: 5535 | U43: =I43+R43*0.1 -> 132245.8 | V43: =L43+0.1*O43 -> 184056.4 | W43: 17270.083 | X43: 1 | Y43: =X43*'Factors & Percentages'!$E$10 -> 14160.969 | Z43: 0.027955138 | AA43: =+'Factors & Percentages'!E$13*Z43 -> 4659.3988 | AB43: 84 | AC43: 91 | AD43: 540 | AE43: =AB43*'Factors & Percentages'!$E$16+AC43*'Factors & Percentages'!$E$17+AD43*'Factors & Percentages'!$E$18 -> 13705.701 | AF43: =W43+Y43+AA43+AE43 -> 49796.152 | AG43: =IF($L43>SUM(I43:K43)/3,$AF43,MIN(AF43,$I43*0.65)) -> 49796.152 | AH43: =IF($AL43>$AF43,$AL43*(1+'Factors & Percentages'!$B$3), IF($AF43>$AG43,$AG43, IF($AF43>$BOJ43,$AF43, $AL43*(1+'Factors & Percentages'!$B$3)))) -> 49796.152 | AI43: =IF(+MIN(AH43,+X43*2*AK$1)-(AL43*(1+'Factors & Percentages'!B$3))>0,0,+MIN(AH43,+X43*2*AK$1)-(AL43*(1+'Factors & Percentages'!B$3))) -> 0 | AJ43: =MIN(AH43-AI43,+X43*2*AK$1) -> 49796.152 | AL43: 36000
A44: 130354 | B44: Saint Herbert and Saint John Darlington | C44: St Herbert and St John Darlington | D44: Darlington St Herbert and St John | E44: AUCKLAND | F44: DARLINGTON | G44: =+AJ44 -> 16083.45 | H44: 20175.35 | I44: 22054 | J44: 31039 | K44: 25376 | L44: 7579 | M44: 10703 | N44: 4665 | O44: 0 | P44: 0 | Q44: 11816 | R44: 0 | S44: 0 | T44: 3816 | U44: =I44+R44*0.1 -> 22054 | V44: =L44+0.1*O44 -> 7579 | W44: =SUM(U44*'Factors & Percentages'!$E$6+V44*'Factors & Percentages'!$E$7) -> 2627.7729 | X44: 1 | Y44: =X44*'Factors & Percentages'!$E$10 -> 14160.969 | Z44: 0.028906747 | AA44: =+'Factors & Percentages'!E$13*Z44 -> 4818.0075 | AB44: 22 | AC44: 25 | AD44: 18803 | AE44: =AB44*'Factors & Percentages'!$E$16+AC44*'Factors & Percentages'!$E$17+AD44*'Factors & Percentages'!$E$18 -> 7721.8893 | AF44: =W44+Y44+AA44+AE44 -> 29328.639 | AG44: =IF($L44>SUM(I44:K44)/3,$AF44,MIN(AF44,$I44*0.65)) -> 14335.1 | AH44: =IF($AL44>$AF44,$AL44*(1+'Factors & Percentages'!$B$3), IF($AF44>$AG44,$AG44, IF($AF44>$BOJ44,$AF44, $AL44*(1+'Factors & Percentages'!$B$3)))) -> 14335.1 | AI44: =IF(+MIN(AH44,+X44*2*AK$1)-(AL44*(1+'Factors & Percentages'!B$3))>0,0,+MIN(AH44,+X44*2*AK$1)-(AL44*(1+'Factors & Percentages'!B$3))) -> -1748.35 | AJ44: =MIN(AH44-AI44,+X44*2*AK$1) -> 16083.45 | AL44: 15615
A45: 130229 | B45: Darlington St. Hilda and St. Columba | C45: Darlington: St Hilda & St Columba | D45: Darlington St Hilda & St Columba | E45: AUCKLAND | F45: DARLINGTON | G45: =+AJ45 -> 18540 | H45: 18900 | I45: 25175 | J45: 23844 | K45: 22653 | L45: 18831 | M45: 21954 | N45: 18012 | O45: 6156 | P45: 1226 | Q45: 1237 | R45: 10075 | S45: 1522 | T45: 391 | U45: =I45+R45*0.1 -> 26182.5 | V45: =L45+0.1*O45 -> 19446.6 | W45: =SUM(U45*'Factors & Percentages'!$E$6+V45*'Factors & Percentages'!$E$7) -> 3852.7642 | X45: 0.2 | Y45: =X45*'Factors & Percentages'!$E$10 -> 2832.1939 | Z45: 0.02212267 | AA45: =+'Factors & Percentages'!E$13*Z45 -> 3687.2773 | AB45: 21 | AC45: 26 | AD45: 6488 | AE45: =AB45*'Factors & Percentages'!$E$16+AC45*'Factors & Percentages'!$E$17+AD45*'Factors & Percentages'!$E$18 -> 4905.5073 | AF45: =W45+Y45+AA45+AE45 -> 15277.743 | AG45: =IF($L45>SUM(I45:K45)/3,$AF45,MIN(AF45,$I45*0.65)) -> 15277.743 | AH45: =IF($AL45>$AF45,$AL45*(1+'Factors & Percentages'!$B$3), IF($AF45>$AG45,$AG45, IF($AF45>$BOJ45,$AF45, $AL45*(1+'Factors & Percentages'!$B$3)))) -> 18540 | AI45: =IF(+MIN(AH45,+X45*2*AK$1)-(AL45*(1+'Factors & Percentages'!B$3))>0,0,+MIN(AH45,+X45*2*AK$1)-(AL45*(1+'Factors & Percentages'!B$3))) -> 0 | AJ45: =MIN(AH45-AI45,+X45*2*AK$1) -> 18540 | AL45: 18000
A46: 130233 | B46: St. James, Albert Hill | C46: Darlington: St James | D46: Darlington St James | E46: AUCKLAND | F46: DARLINGTON | G46: =+AJ46 -> 14595.086 | H46: 10139.51 | I46: 39939 | J46: 38044 | K46: 41541 | L46: 9064 | M46: 2415 | N46: 13598 | O46: 714 | P46: 1224 | Q46: 797 | R46: 837 | S46: 2703 | T46: 1365 | U46: =I46+R46*0.1 -> 40022.7 | V46: =L46+0.1*O46 -> 9135.4 | W46: =SUM(U46*'Factors & Percentages'!$E$6+V46*'Factors & Percentages'!$E$7) -> 4444.7368 | X46: 0.1 | Y46: =X46*'Factors & Percentages'!$E$10 -> 1416.0969 | Z46: 0.025690034 | AA46: =+'Factors & Percentages'!E$13*Z46 -> 4281.8647 | AB46: 23 | AC46: 27 | AD46: 3090 | AE46: =AB46*'Factors & Percentages'!$E$16+AC46*'Factors & Percentages'!$E$17+AD46*'Factors & Percentages'!$E$18 -> 4452.3872 | AF46: =W46+Y46+AA46+AE46 -> 14595.086 | AG46: =IF($L46>SUM(I46:K46)/3,$AF46,MIN(AF46,$I46*0.65)) -> 14595.086 | AH46: =IF($AL46>$AF46,$AL46*(1+'Factors & Percentages'!$B$3), IF($AF46>$AG46,$AG46, IF($AF46>$BOJ46,$AF46, $AL46*(1+'Factors & Percentages'!$B$3)))) -> 14595.086 | AI46: =IF(+MIN(AH46,+X46*2*AK$1)-(AL46*(1+'Factors & Percentages'!B$3))>0,0,+MIN(AH46,+X46*2*AK$1)-(AL46*(1+'Factors & Percentages'!B$3))) -> 0 | AJ46: =MIN(AH46-AI46,+X46*2*AK$1) -> 14595.086 | AL46: 9000
A47: 130236 | B47: Darlington St. Mark with St. Paul | C47: Darlington: St Mark w St Paul | D47: Darlington St Mark w St Paul | E47: AUCKLAND | F47: DARLINGTON | G47: =+AJ47 -> 22492.6 | H47: 24834.669 | I47: 34604 | J47: 43890 | K47: 31609 | L47: 18372 | M47: 37811 | N47: 19433 | O47: 29901 | P47: 18233 | Q47: 7376 | R47: 43283 | S47: 0 | T47: 1200 | U47: =I47+R47*0.1 -> 38932.3 | V47: =L47+0.1*O47 -> 21362.1 | W47: =SUM(U47*'Factors & Percentages'!$E$6+V47*'Factors & Percentages'!$E$7) -> 5198.9108 | X47: 0.5 | Y47: =X47*'Factors & Percentages'!$E$10 -> 7080.4846 | Z47: 0.036117642 | AA47: =+'Factors & Percentages'!E$13*Z47 -> 6019.8774 | AB47: 33 | AC47: 59 | AD47: 12421 | AE47: =AB47*'Factors & Percentages'!$E$16+AC47*'Factors & Percentages'!$E$17+AD47*'Factors & Percentages'!$E$18 -> 8657.83 | AF47: =W47+Y47+AA47+AE47 -> 26957.103 | AG47: =IF($L47>SUM(I47:K47)/3,$AF47,MIN(AF47,$I47*0.65)) -> 22492.6 | AH47: =IF($AL47>$AF47,$AL47*(1+'Factors & Percentages'!$B$3), IF($AF47>$AG47,$AG47, IF($AF47>$BOJ47,$AF47, $AL47*(1+'Factors & Percentages'!$B$3)))) -> 22492.6 | AI47: =IF(+MIN(AH47,+X47*2*AK$1)-(AL47*(1+'Factors & Percentages'!B$3))>0,0,+MIN(AH47,+X47*2*AK$1)-(AL47*(1+'Factors & Percentages'!B$3))) -> 0 | AJ47: =MIN(AH47-AI47,+X47*2*AK$1) -> 22492.6 | AL47: 20051
A48: 130238 | B48: St. Matthew and St. Luke, Darlington | C48: Darlington: St Matthew & St Luke | D48: Darlington St Matthew w St Luke | E48: AUCKLAND | F48: DARLINGTON | G48: =+AJ48 -> 18016.05 | H48: 19028.379 | I48: 27717 | J48: 31702 | K48: 36070 | L48: 14237 | M48: 18276 | N48: 15754 | O48: 6173 | P48: 13884 | Q48: 3043 | R48: 6273 | S48: 9030 | T48: 3748 | U48: =I48+R48*0.1 -> 28344.3 | V48: =L48+0.1*O48 -> 14854.3 | W48: =SUM(U48*'Factors & Percentages'!$E$6+V48*'Factors & Percentages'!$E$7) -> 3736.0356 | X48: 0.5 | Y48: =X48*'Factors & Percentages'!$E$10 -> 7080.4846 | Z48: 0.027535921 | AA48: =+'Factors & Percentages'!E$13*Z48 -> 4589.5262 | AB48: 25 | AC48: 39 | AD48: 7600 | AE48: =AB48*'Factors & Percentages'!$E$16+AC48*'Factors & Percentages'!$E$17+AD48*'Factors & Percentages'!$E$18 -> 6016.6617 | AF48: =W48+Y48+AA48+AE48 -> 21422.708 | AG48: =IF($L48>SUM(I48:K48)/3,$AF48,MIN(AF48,$I48*0.65)) -> 18016.05 | AH48: =IF($AL48>$AF48,$AL48*(1+'Factors & Percentages'!$B$3), IF($AF48>$AG48,$AG48, IF($AF48>$BOJ48,$AF48, $AL48*(1+'Factors & Percentages'!$B$3)))) -> 18016.05 | AI48: =IF(+MIN(AH48,+X48*2*AK$1)-(AL48*(1+'Factors & Percentages'!B$3))>0,0,+MIN(AH48,+X48*2*AK$1)-(AL48*(1+'Factors & Percentages'!B$3))) -> 0 | AJ48: =MIN(AH48-AI48,+X48*2*AK$1) -> 18016.05 | AL48: 14100
A49: 130240 | B49: Dinsdale | C49: Dinsdale | D49: Dinsdale | E49: AUCKLAND | F49: DARLINGTON | G49: =+AJ49 -> 3976.0567 | H49: 4285.45 | I49: 7594 | J49: 5858 | K49: 4773 | L49: 7889 | M49: 5347 | N49: 5347 | O49: 201 | P49: 0 | Q49: 0 | R49: 100 | S49: 0 | T49: 0 | U49: =I49+R49*0.1 -> 7604 | V49: =L49+0.1*O49 -> 7909.1 | W49: =SUM(U49*'Factors & Percentages'!$E$6+V49*'Factors & Percentages'!$E$7) -> 1277.585 | X49: 0.1 | Y49: =X49*'Factors & Percentages'!$E$10 -> 1416.0969 | Z49: 0.046557102 | AA49: =+'Factors & Percentages'!E$13*Z49 -> 7759.8655 | AB49: 5 | AC49: 9 | AD49: 32 | AE49: =AB49*'Factors & Percentages'!$E$16+AC49*'Factors & Percentages'!$E$17+AD49*'Factors & Percentages'!$E$18 -> 906.61465 | AF49: =W49+Y49+AA49+AE49 -> 11360.162 | AG49: =IF($L49>SUM(I49:K49)/3,$AF49,MIN(AF49,$I49*0.65)) -> 11360.162 | AH49: =IF($AL49>$AF49,$AL49*(1+'Factors & Percentages'!$B$3), IF($AF49>$AG49,$AG49, IF($AF49>$BOJ49,$AF49, $AL49*(1+'Factors & Percentages'!$B$3)))) -> 11360.162 | AI49: =IF(+MIN(AH49,+X49*2*AK$1)-(AL49*(1+'Factors & Percentages'!B$3))>0,0,+MIN(AH49,+X49*2*AK$1)-(AL49*(1+'Factors & Percentages'!B$3))) -> 0 | AJ49: =MIN(AH49-AI49,+X49*2*AK$1)*0.35 -> 3976.0567 | AL49: 1000
A50: 130080 | B50: St. Nicholas with Christ Church Dunston | C50: Dunston: St Nicholas w Christ Church | D50: Dunston St Nicholas w Christ Church | E50: SUNDERLAND | F50: GATESHEAD, WEST | G50: =+AJ50 -> 37661.689 | H50: 34885.2 | I50: 70598 | J50: 70304 | K50: 57047 | L50: 45334 | M50: 28958 | N50: 34877 | O50: 0 | P50: 0 | Q50: 0 | R50: 0 | S50: 0 | T50: 0 | U50: =I50+R50*0.1 -> 70598 | V50: =L50+0.1*O50 -> 45334 | W50: =SUM(U50*'Factors & Percentages'!$E$6+V50*'Factors & Percentages'!$E$7) -> 9890.2938 | X50: 1 | Y50: =X50*'Factors & Percentages'!$E$10 -> 14160.969 | Z50: 0.04161309 | AA50: =+'Factors & Percentages'!E$13*Z50 -> 6935.8264 | AB50: 25 | AC50: 48 | AD50: 9555 | AE50: =AB50*'Factors & Percentages'!$E$16+AC50*'Factors & Percentages'!$E$17+AD50*'Factors & Percentages'!$E$18 -> 6674.599 | AF50: =W50+Y50+AA50+AE50 -> 37661.689 | AG50: =IF($L50>SUM(I50:K50)/3,$AF50,MIN(AF50,$I50*0.65)) -> 37661.689 | AH50: =IF($AL50>$AF50,$AL50*(1+'Factors & Percentages'!$B$3), IF($AF50>$AG50,$AG50, IF($AF50>$BOJ50,$AF50, $AL50*(1+'Factors & Percentages'!$B$3)))) -> 37661.689 | AI50: =IF(+MIN(AH50,+X50*2*AK$1)-(AL50*(1+'Factors & Percentages'!B$3))>0,0,+MIN(AH50,+X50*2*AK$1)-(AL50*(1+'Factors & Percentages'!B$3))) -> 0 | AJ50: =MIN(AH50-AI50,+X50*2*AK$1) -> 37661.689 | AL50: 34885
A51: 130020 | B51: Saint Cuthbert and Saint Aidan, Durham | C51: Durham: Saint Cuthbert and Saint Aidan | D51: Durham St Cuthbert w St Aidan | E51: DURHAM | F51: DURHAM | G51: =+AJ51 -> 50525.462 | H51: 43997.85 | I51: 73173 | J51: 67689 | K51: 71219 | L51: 100087 | M51: 67686 | N51: 66370 | O51: 27203 | P51: 20122 | Q51: 13213 | R51: 49046 | S51: 17517 | T51: 7614 | U51: =I51+R51*0.1 -> 78077.6 | V51: =L51+0.1*O51 -> 102807.3 | W51: =SUM(U51*'Factors & Percentages'!$E$6+V51*'Factors & Percentages'!$E$7) -> 14633.406 | X51: 0.5 | Y51: =X51*'Factors & Percentages'!$E$10 -> 7080.4846 | Z51: 0.099556971 | AA51: =+'Factors & Percentages'!E$13*Z51 -> 16593.574 | AB51: 55 | AC51: 128 | AD51: 7221 | AE51: =AB51*'Factors & Percentages'!$E$16+AC51*'Factors & Percentages'!$E$17+AD51*'Factors & Percentages'!$E$18 -> 12217.998 | AF51: =W51+Y51+AA51+AE51 -> 50525.462 | AG51: =IF($L51>SUM(I51:K51)/3,$AF51,MIN(AF51,$I51*0.65)) -> 50525.462 | AH51: =IF($AL51>$AF51,$AL51*(1+'Factors & Percentages'!$B$3), IF($AF51>$AG51,$AG51, IF($AF51>$BOJ51,$AF51, $AL51*(1+'Factors & Percentages'!$B$3)))) -> 50525.462 | AI51: =IF(+MIN(AH51,+X51*2*AK$1)-(AL51*(1+'Factors & Percentages'!B$3))>0,0,+MIN(AH51,+X51*2*AK$1)-(AL51*(1+'Factors & Percentages'!B$3))) -> 0 | AJ51: =MIN(AH51-AI51,+X51*2*AK$1) -> 50525.462 | AL51: 34650
A52: 130022 | B52: St. Giles, Durham | C52: Durham: St Giles | D52: Durham St Giles | E52: DURHAM | F52: DURHAM | G52: =+AJ52 -> 33180.42 | H52: 32214 | I52: 89982 | J52: 92238 | K52: 51603 | L52: 20643 | M52: 24875 | N52: 19897 | O52: -9450 | P52: -9643 | Q52: 1618 | R52: 184 | S52: 1000 | T52: 0 | U52: =I52+R52*0.1 -> 90000.4 | V52: =L52+0.1*O52 -> 19698 | W52: =SUM(U52*'Factors & Percentages'!$E$6+V52*'Factors & Percentages'!$E$7) -> 9935.7402 | X52: 0.5 | Y52: =X52*'Factors & Percentages'!$E$10 -> 7080.4846 | Z52: 0.031468014 | AA52: =+'Factors & Percentages'!E$13*Z52 -> 5244.9046 | AB52: 30 | AC52: 45 | AD52: 6594 | AE52: =AB52*'Factors & Percentages'!$E$16+AC52*'Factors & Percentages'!$E$17+AD52*'Factors & Percentages'!$E$18 -> 6619.0289 | AF52: =W52+Y52+AA52+AE52 -> 28880.158 | AG52: =IF($L52>SUM(I52:K52)/3,$AF52,MIN(AF52,$I52*0.65)) -> 28880.158 | AH52: =IF($AL52>$AF52,$AL52*(1+'Factors & Percentages'!$B$3), IF($AF52>$AG52,$AG52, IF($AF52>$BOJ52,$AF52, $AL52*(1+'Factors & Percentages'!$B$3)))) -> 33180.42 | AI52: =IF(+MIN(AH52,+X52*2*AK$1)-(AL52*(1+'Factors & Percentages'!B$3))>0,0,+MIN(AH52,+X52*2*AK$1)-(AL52*(1+'Factors & Percentages'!B$3))) -> 0 | AJ52: =MIN(AH52-AI52,+X52*2*AK$1) -> 33180.42 | AL52: 32214
A53: 130023 | B53: St. Margaret Durham | C53: Durham: St Margaret of Antioch | D53: Durham St Margaret | E53: DURHAM | F53: DURHAM | G53: =+AJ53 -> 50986.021 | H53: 55614.898 | I53: 60124 | J53: 55086 | K53: 55811 | L53: 233594 | M53: 249886 | N53: 253157 | O53: 304253 | P53: 172168 | Q53: 197240 | R53: 14125 | S53: 12630 | T53: 10799 | U53: =I53+R53*0.1 -> 61536.5 | V53: =L53+0.1*O53 -> 264019.3 | W53: =SUM(U53*'Factors & Percentages'!$E$6+V53*'Factors & Percentages'!$E$7) -> 24371.712 | X53: 0.4 | Y53: =X53*'Factors & Percentages'!$E$10 -> 5664.3877 | Z53: 0.093289674 | AA53: =+'Factors & Percentages'!E$13*Z53 -> 15548.977 | AB53: 24 | AC53: 43 | AD53: 4949 | AE53: =AB53*'Factors & Percentages'!$E$16+AC53*'Factors & Percentages'!$E$17+AD53*'Factors & Percentages'!$E$18 -> 5400.9447 | AF53: =W53+Y53+AA53+AE53 -> 50986.021 | AG53: =IF($L53>SUM(I53:K53)/3,$AF53,MIN(AF53,$I53*0.65)) -> 50986.021 | AH53: =IF($AL53>$AF53,$AL53*(1+'Factors & Percentages'!$B$3), IF($AF53>$AG53,$AG53, IF($AF53>$BOJ53,$AF53, $AL53*(1+'Factors & Percentages'!$B$3)))) -> 50986.021 | AI53: =IF(+MIN(AH53,+X53*2*AK$1)-(AL53*(1+'Factors & Percentages'!B$3))>0,0,+MIN(AH53,+X53*2*AK$1)-(AL53*(1+'Factors & Percentages'!B$3))) -> 0 | AJ53: =MIN(AH53-AI53,+X53*2*AK$1) -> 50986.021 | AL53: 39977
A54: 130025 | B54: St. Nicholas Durham | C54: Durham: St Nicholas | D54: Durham St Nicholas | E54: DURHAM | F54: DURHAM | G54: =+AJ54 -> 148785.87 | H54: 138915 | I54: 362781 | J54: 284664 | K54: 362395 | L54: 179360 | M54: 194819 | N54: 151021 | O54: 67210 | P54: 73353 | Q54: 71674 | R54: 11041 | S54: 22329 | T54: 4338 | U54: =I54+R54*0.1 -> 363885.1 | V54: =L54+0.1*O54 -> 186081 | W54: =SUM(U54*'Factors & Percentages'!$E$6+V54*'Factors & Percentages'!$E$7) -> 47639.29 | X54: 2 | Y54: =X54*'Factors & Percentages'!$E$10 -> 28321.939 | Z54: 0.17187742 | AA54: =+'Factors & Percentages'!E$13*Z54 -> 28647.523 | AB54: 296 | AC54: 150 | AD54: 2844 | AE54: =AB54*'Factors & Percentages'!$E$16+AC54*'Factors & Percentages'!$E$17+AD54*'Factors & Percentages'!$E$18 -> 44177.122 | AF54: =W54+Y54+AA54+AE54 -> 148785.87 | AG54: =IF($L54>SUM(I54:K54)/3,$AF54,MIN(AF54,$I54*0.65)) -> 148785.87 | AH54: =IF($AL54>$AF54,$AL54*(1+'Factors & Percentages'!$B$3), IF($AF54>$AG54,$AG54, IF($AF54>$BOJ54,$AF54, $AL54*(1+'Factors & Percentages'!$B$3)))) -> 148785.87 | AI54: =IF(+MIN(AH54,+X54*2*AK$1)-(AL54*(1+'Factors & Percentages'!B$3))>0,0,+MIN(AH54,+X54*2*AK$1)-(AL54*(1+'Factors & Percentages'!B$3))) -> 0 | AJ54: =MIN(AH54-AI54,+X54*2*AK$1) -> 148785.87 | AL54: 90000
A55: 130026 | B55: Saint Oswald, Durham | C55: Durham: St Oswald | D55: Durham St Oswald | E55: DURHAM | F55: DURHAM | G55: =+AJ55 -> 39733.005 | H55: 42000 | I55: 88890 | J55: 82864 | K55: 75564 | L55: 22068 | M55: 1832 | N55: 22437 | O55: 4619 | P55: 9045 | Q55: 9258 | R55: 3556 | S55: 2029 | T55: 2127 | U55: =I55+R55*0.1 -> 89245.6 | V55: =L55+0.1*O55 -> 22529.9 | W55: =SUM(U55*'Factors & Percentages'!$E$6+V55*'Factors & Percentages'!$E$7) -> 10062.685 | X55: 0.25 | Y55: =X55*'Factors & Percentages'!$E$10 -> 3540.2423 | Z55: 0.097423157 | AA55: =+'Factors & Percentages'!E$13*Z55 -> 16237.922 | AB55: 49 | AC55: 53 | AD55: 8954 | AE55: =AB55*'Factors & Percentages'!$E$16+AC55*'Factors & Percentages'!$E$17+AD55*'Factors & Percentages'!$E$18 -> 9892.1557 | AF55: =W55+Y55+AA55+AE55 -> 39733.005 | AG55: =IF($L55>SUM(I55:K55)/3,$AF55,MIN(AF55,$I55*0.65)) -> 39733.005 | AH55: =IF($AL55>$AF55,$AL55*(1+'Factors & Percentages'!$B$3), IF($AF55>$AG55,$AG55, IF($AF55>$BOJ55,$AF55, $AL55*(1+'Factors & Percentages'!$B$3)))) -> 39733.005 | AI55: =IF(+MIN(AH55,+X55*2*AK$1)-(AL55*(1+'Factors & Percentages'!B$3))>0,0,+MIN(AH55,+X55*2*AK$1)-(AL55*(1+'Factors & Percentages'!B$3))) -> 0 | AJ55: =MIN(AH55-AI55,+X55*2*AK$1) -> 39733.005 | AL55: 30000
A56: 130044 | B56: Easington | C56: Easington | D56: Easington | E56: SUNDERLAND | F56: Easington | G56: =+AJ56 -> 24065.206 | H56: 22353.087 | I56: 49256 | J56: 45717 | K56: 51103 | L56: 10526 | M56: 30669 | N56: 22557 | O56: 20558 | P56: 6252 | Q56: 6072 | R56: 145 | S56: 110 | T56: 66 | U56: =I56+R56*0.1 -> 49270.5 | V56: =L56+0.1*O56 -> 12581.8 | W56: =SUM(U56*'Factors & Percentages'!$E$6+V56*'Factors & Percentages'!$E$7) -> 5565.4543 | X56: 0.4 | Y56: =X56*'Factors & Percentages'!$E$10 -> 5664.3877 | Z56: 0.039150895 | AA56: =+'Factors & Percentages'!E$13*Z56 -> 6525.4423 | AB56: 28 | AC56: 64 | AD56: 4219 | AE56: =AB56*'Factors & Percentages'!$E$16+AC56*'Factors & Percentages'!$E$17+AD56*'Factors & Percentages'!$E$18 -> 6309.9216 | AF56: =W56+Y56+AA56+AE56 -> 24065.206 | AG56: =IF($L56>SUM(I56:K56)/3,$AF56,MIN(AF56,$I56*0.65)) -> 24065.206 | AH56: =IF($AL56>$AF56,$AL56*(1+'Factors & Percentages'!$B$3), IF($AF56>$AG56,$AG56, IF($AF56>$BOJ56,$AF56, $AL56*(1+'Factors & Percentages'!$B$3)))) -> 24065.206 | AI56: =IF(+MIN(AH56,+X56*2*AK$1)-(AL56*(1+'Factors & Percentages'!B$3))>0,0,+MIN(AH56,+X56*2*AK$1)-(AL56*(1+'Factors & Percentages'!B$3))) -> 0 | AJ56: =MIN(AH56-AI56,+X56*2*AK$1) -> 24065.206 | AL56: 13000
A57: 130045 | B57: Easington Colliery | C57: Easington Colliery | D57: Easington Colliery | E57: SUNDERLAND | F57: Easington | G57: =+AJ57 -> 14691.986 | H57: 11956.991 | I57: 14934 | J57: 20106 | K57: 13865 | L57: 20328 | M57: 25532 | N57: 38445 | O57: 58024 | P57: 16880 | Q57: 14436 | R57: 0 | S57: 2450 | T57: 0 | U57: =I57+R57*0.1 -> 14934 | V57: =L57+0.1*O57 -> 26130.4 | W57: =SUM(U57*'Factors & Percentages'!$E$6+V57*'Factors & Percentages'!$E$7) -> 3252.6172 | X57: 0.4 | Y57: =X57*'Factors & Percentages'!$E$10 -> 5664.3877 | Z57: 0.018196839 | AA57: =+'Factors & Percentages'!E$13*Z57 -> 3032.9427 | AB57: 12 | AC57: 15 | AD57: 3413 | AE57: =AB57*'Factors & Percentages'!$E$16+AC57*'Factors & Percentages'!$E$17+AD57*'Factors & Percentages'!$E$18 -> 2742.0383 | AF57: =W57+Y57+AA57+AE57 -> 14691.986 | AG57: =IF($L57>SUM(I57:K57)/3,$AF57,MIN(AF57,$I57*0.65)) -> 14691.986 | AH57: =IF($AL57>$AF57,$AL57*(1+'Factors & Percentages'!$B$3), IF($AF57>$AG57,$AG57, IF($AF57>$BOJ57,$AF57, $AL57*(1+'Factors & Percentages'!$B$3)))) -> 14691.986 | AI57: =IF(+MIN(AH57,+X57*2*AK$1)-(AL57*(1+'Factors & Percentages'!B$3))>0,0,+MIN(AH57,+X57*2*AK$1)-(AL57*(1+'Factors & Percentages'!B$3))) -> 0 | AJ57: =MIN(AH57-AI57,+X57*2*AK$1) -> 14691.986 | AL57: 6500
A58: 130106 | B58: St. George, East Boldon | C58: East Boldon | D58: East Boldon - The Boldons | E58: SUNDERLAND | F58: JARROW | G58: =+AJ58 -> 20600 | H58: 21000 | I58: 24588 | J58: 24588 | K58: 41487 | L58: 29935 | M58: 29935 | N58: 38290 | O58: 16301 | P58: 16301 | Q58: 2582 | R58: 459 | S58: 459 | T58: 1630 | U58: =I58+R58*0.1 -> 24633.9 | V58: =L58+0.1*O58 -> 31565.1 | W58: =SUM(U58*'Factors & Percentages'!$E$6+V58*'Factors & Percentages'!$E$7) -> 4555.7991 | X58: 0.33333333 | Y58: =X58*'Factors & Percentages'!$E$10 -> 4720.3231 | Z58: 0.17665972 | AA58: =+'Factors & Percentages'!E$13*Z58 -> 29444.609 | AB58: 26 | AC58: 40 | AD58: 3584 | AE58: =AB58*'Factors & Percentages'!$E$16+AC58*'Factors & Percentages'!$E$17+AD58*'Factors & Percentages'!$E$18 -> 5293.3855 | AF58: =W58+Y58+AA58+AE58 -> 44014.116 | AG58: =IF($L58>SUM(I58:K58)/3,$AF58,MIN(AF58,$I58*0.65)) -> 15982.2 | AH58: =IF($AL58>$AF58,$AL58*(1+'Factors & Percentages'!$B$3), IF($AF58>$AG58,$AG58, IF($AF58>$BOJ58,$AF58, $AL58*(1+'Factors & Percentages'!$B$3)))) -> 15982.2 | AI58: =IF(+MIN(AH58,+X58*2*AK$1)-(AL58*(1+'Factors & Percentages'!B$3))>0,0,+MIN(AH58,+X58*2*AK$1)-(AL58*(1+'Factors & Percentages'!B$3))) -> -4617.8 | AJ58: =MIN(AH58-AI58,+X58*2*AK$1) -> 20600 | AL58: 20000
A59: 130103 | B59: East Rainton | C59: East Rainton | D59: East Rainton | E59: SUNDERLAND | F59: Chester le Street and Houghton | G59: 0 | H59: 3316.95 | I59: 5103 | J59: 5103 | K59: 7723 | L59: 2671 | M59: 2671 | N59: 2674 | O59: 32417 | P59: 32417 | Q59: 34517 | R59: 1254 | S59: 1254 | T59: 1094 | U59: =I59+R59*0.1 -> 5228.4 | V59: =L59+0.1*O59 -> 5912.7 | W59: =SUM(U59*'Factors & Percentages'!$E$6+V59*'Factors & Percentages'!$E$7) -> 911.74032 | X59: 0.25 | Y59: =X59*'Factors & Percentages'!$E$10 -> 3540.2423 | Z59: 0.052909773 | AA59: =+'Factors & Percentages'!E$13*Z59 -> 8818.6915 | AB59: 9 | AC59: 16 | AD59: 1720 | AE59: =AB59*'Factors & Percentages'!$E$16+AC59*'Factors & Percentages'!$E$17+AD59*'Factors & Percentages'!$E$18 -> 1992.3138 | AF59: =W59+Y59+AA59+AE59 -> 15262.988 | AG59: =IF($L59>SUM(I59:K59)/3,$AF59,MIN(AF59,$I59*0.65)) -> 3316.95 | AH59: =IF($AL59>$AF59,$AL59*(1+'Factors & Percentages'!$B$3), IF($AF59>$AG59,$AG59, IF($AF59>$BOJ59,$AF59, $AL59*(1+'Factors & Percentages'!$B$3)))) -> 3316.95 | AI59: =IF(+MIN(AH59,+X59*2*AK$1)-(AL59*(1+'Factors & Percentages'!B$3))>0,0,+MIN(AH59,+X59*2*AK$1)-(AL59*(1+'Factors & Percentages'!B$3))) -> 0 | AJ59: =MIN(AH59-AI59,+X59*2*AK$1) -> 3316.95 | AL59: 1600
A60: 130285 | B60: All Saints, Eastgate | C60: Eastgate | D60: Eastgate | E60: AUCKLAND | F60: Durham Dales | G60: =+AJ60 -> 9555.2313 | H60: 10478 | I60: 5280 | J60: 8413 | K60: 6943 | L60: 13946 | M60: 9177 | N60: 13000 | O60: 16384 | P60: 8708 | Q60: 2144 | R60: 8460 | S60: 8082 | T60: 5727 | U60: =I60+R60*0.1 -> 6126 | V60: =L60+0.1*O60 -> 15584.4 | W60: =SUM(U60*'Factors & Percentages'!$E$6+V60*'Factors & Percentages'!$E$7) -> 1675.6015 | X60: 0.17 | Y60: =X60*'Factors & Percentages'!$E$10 -> 2407.3648 | Z60: 0.039080819 | AA60: =+'Factors & Percentages'!E$13*Z60 -> 6513.7624 | AB60: 14 | AC60: 9 | AD60: 161 | AE60: =AB60*'Factors & Percentages'!$E$16+AC60*'Factors & Percentages'!$E$17+AD60*'Factors & Percentages'!$E$18 -> 2143.5798 | AF60: =W60+Y60+AA60+AE60 -> 12740.308 | AG60: =IF($L60>SUM(I60:K60)/3,$AF60,MIN(AF60,$I60*0.65)) -> 12740.308 | AH60: =IF($AL60>$AF60,$AL60*(1+'Factors & Percentages'!$B$3), IF($AF60>$AG60,$AG60, IF($AF60>$BOJ60,$AF60, $AL60*(1+'Factors & Percentages'!$B$3)))) -> 12740.308 | AI60: =IF(+MIN(AH60,+X60*2*AK$1)-(AL60*(1+'Factors & Percentages'!B$3))>0,0,+MIN(AH60,+X60*2*AK$1)-(AL60*(1+'Factors & Percentages'!B$3))) -> 0 | AJ60: =MIN(AH60-AI60,+X60*2*AK$1)*0.75 -> 9555.2313 | AL60: 2000
A61: 130144 | B61: Ebchester | C61: Ebchester | D61: Ebchester | E61: DURHAM | F61: LANCHESTER | G61: =+AJ61 -> 13846.3 | H61: 14697.8 | I61: 21302 | J61: 22612 | K61: 22932 | L61: 861 | M61: 4068 | N61: 3734 | O61: 93608 | P61: 94864 | Q61: 92840 | R61: 1218 | S61: 2024 | T61: 2907 | U61: =I61+R61*0.1 -> 21423.8 | V61: =L61+0.1*O61 -> 10221.8 | W61: =SUM(U61*'Factors & Percentages'!$E$6+V61*'Factors & Percentages'!$E$7) -> 2753.2927 | X61: 0.33 | Y61: =X61*'Factors & Percentages'!$E$10 -> 4673.1199 | Z61: 0.043744532 | AA61: =+'Factors & Percentages'!E$13*Z61 -> 7291.0827 | AB61: 20 | AC61: 40 | AD61: 1962 | AE61: =AB61*'Factors & Percentages'!$E$16+AC61*'Factors & Percentages'!$E$17+AD61*'Factors & Percentages'!$E$18 -> 4131.0539 | AF61: =W61+Y61+AA61+AE61 -> 18848.549 | AG61: =IF($L61>SUM(I61:K61)/3,$AF61,MIN(AF61,$I61*0.65)) -> 13846.3 | AH61: =IF($AL61>$AF61,$AL61*(1+'Factors & Percentages'!$B$3), IF($AF61>$AG61,$AG61, IF($AF61>$BOJ61,$AF61, $AL61*(1+'Factors & Percentages'!$B$3)))) -> 13846.3 | AI61: =IF(+MIN(AH61,+X61*2*AK$1)-(AL61*(1+'Factors & Percentages'!B$3))>0,0,+MIN(AH61,+X61*2*AK$1)-(AL61*(1+'Factors & Percentages'!B$3))) -> 0 | AJ61: =MIN(AH61-AI61,+X61*2*AK$1) -> 13846.3 | AL61: 9000
A62: 130303 | B62: St. John the Baptist Egglescliffe | C62: Egglescliffe | D62: Egglescliffe | E62: AUCKLAND | F62: STOCKTON | G62: =+AJ62 -> 36637.25 | H62: 43717.05 | I62: 56365 | J62: 67257 | K62: 65234 | L62: 43284 | M62: 20509 | N62: 71942 | O62: 0 | P62: 0 | Q62: 0 | R62: 0 | S62: 0 | T62: 1119 | U62: =I62+R62*0.1 -> 56365 | V62: =L62+0.1*O62 -> 43284 | W62: =SUM(U62*'Factors & Percentages'!$E$6+V62*'Factors & Percentages'!$E$7) -> 8393.7456 | X62: 0.5 | Y62: =X62*'Factors & Percentages'!$E$10 -> 7080.4846 | Z62: 0.13305303 | AA62: =+'Factors & Percentages'!E$13*Z62 -> 22176.502 | AB62: 45 | AC62: 98 | AD62: 7945 | AE62: =AB62*'Factors & Percentages'!$E$16+AC62*'Factors & Percentages'!$E$17+AD62*'Factors & Percentages'!$E$18 -> 10273.833 | AF62: =W62+Y62+AA62+AE62 -> 47924.565 | AG62: =IF($L62>SUM(I62:K62)/3,$AF62,MIN(AF62,$I62*0.65)) -> 36637.25 | AH62: =IF($AL62>$AF62,$AL62*(1+'Factors & Percentages'!$B$3), IF($AF62>$AG62,$AG62, IF($AF62>$BOJ62,$AF62, $AL62*(1+'Factors & Percentages'!$B$3)))) -> 36637.25 | AI62: =IF(+MIN(AH62,+X62*2*AK$1)-(AL62*(1+'Factors & Percentages'!B$3))>0,0,+MIN(AH62,+X62*2*AK$1)-(AL62*(1+'Factors & Percentages'!B$3))) -> 0 | AJ62: =MIN(AH62-AI62,+X62*2*AK$1) -> 36637.25 | AL62: 30000
...

Sheet Factors & Percentages
A1: CALULATION FACTORS
A2: PARISH SHARE TARGET (Gross GP) | B2: 6529150.9
A3: INFLATION ASSUMPTION | B3: 0.03
A5: GP FINANCE FACTORS | B5: Weighting in Calculation | C5: Weighted Gross GP | D5: Total per Base Data | E5: Factor to be applied to Base Data
A6: Unrestricted Income + 10% of Restricted Income | B6: 0.15 | C6: 979372.64 | D6: 10304702 | E6: 0.095041331
A7: Unrestricted Reserves (UR Cash & Investments)( + 10% of Restricted | B7: 0.1 | C7: 652915.09 | D7: 9306284.9 | E7: 0.070158511
C8: 1632287.7 | D8: 19610987
A9: MINISTRY
A10: Full Time Clergy | B10: 0.25 | C10: 1632287.7 | D10: 115.26667 | E10: 14160.969
A12: DEPRIVATION
A13: IMD Score | B13: 0.25 | C13: 1632287.7 | D13: 9.7932866 | E13: 166674.15
A15: PEOPLE
A16: Usual Sunday Attendance | B16: 0.15 | C16: 979372.64 | D16: 7293 | E16: 134.28941
A17: Electoral Roll | B17: 0.05 | C17: 326457.55 | D17: 12879 | E17: 25.348051
A18: Parish Population | B18: 0.05 | C18: 326457.55 | D18: 1484917 | E18: 0.21984902
A19: Factor Weighting | B19: 1 | C19: 6529150.9
